BEGIN:VCALENDAR
VERSION:2.0
PRODID:-//L&#039;appel du végétal - ECPv6.15.18//NONSGML v1.0//EN
CALSCALE:GREGORIAN
METHOD:PUBLISH
X-WR-CALNAME:L&#039;appel du végétal
X-ORIGINAL-URL:https://lappelduvegetal.fr
X-WR-CALDESC:Évènements pour L&#039;appel du végétal
REFRESH-INTERVAL;VALUE=DURATION:PT1H
X-Robots-Tag:noindex
X-PUBLISHED-TTL:PT1H
BEGIN:VTIMEZONE
TZID:Europe/Paris
BEGIN:DAYLIGHT
TZOFFSETFROM:+0100
TZOFFSETTO:+0200
TZNAME:CEST
DTSTART:20230326T010000
END:DAYLIGHT
BEGIN:STANDARD
TZOFFSETFROM:+0200
TZOFFSETTO:+0100
TZNAME:CET
DTSTART:20231029T010000
END:STANDARD
BEGIN:DAYLIGHT
TZOFFSETFROM:+0100
TZOFFSETTO:+0200
TZNAME:CEST
DTSTART:20240331T010000
END:DAYLIGHT
BEGIN:STANDARD
TZOFFSETFROM:+0200
TZOFFSETTO:+0100
TZNAME:CET
DTSTART:20241027T010000
END:STANDARD
BEGIN:DAYLIGHT
TZOFFSETFROM:+0100
TZOFFSETTO:+0200
TZNAME:CEST
DTSTART:20250330T010000
END:DAYLIGHT
BEGIN:STANDARD
TZOFFSETFROM:+0200
TZOFFSETTO:+0100
TZNAME:CET
DTSTART:20251026T010000
END:STANDARD
END:VTIMEZONE
BEGIN:VEVENT
DTSTART;TZID=Europe/Paris:20241123T140000
DTEND;TZID=Europe/Paris:20241123T163000
DTSTAMP:20260420T205116
CREATED:20240730T055838Z
LAST-MODIFIED:20240730T055838Z
UID:10000067-1732370400-1732379400@lappelduvegetal.fr
SUMMARY:Sortie Smart'plantouses
DESCRIPTION:Venez découvrir les plantes sauvages du parc Balzac et leurs usages comestibles\, tinctoriaux ou ludiques avec Amélie Boursier de l’Appel du Végétal\, animatrice nature. Fabien Fougeroux\, photographe\, vous distillera des astuces pour les prendre en photo avec votre smartphone et les mettre en valeur dans leur milieu naturel. L’animation se terminera par une petite dégustation d’un plat réalisé à partir de plantes découvertes pendant la balade. Animation ouverte à tout public\, débutant comme confirmé\, à partir de 8 ans. \nSortie organisée dans le cadre des rendez-nature en Anjou du département. \nENS Basses Vallées Angevines \nLieu : sur la commune de Angers – Parc Balzac \nSortie gratuite \nSur réservation \nRéservation en ligne https://boutique.destination-angers.com/activites-et-sites-touristiques/animations-nature/smart-plantouses
URL:https://lappelduvegetal.fr/evenement/sortie-smartplantouses-2/
LOCATION:Parc Balzac\, Angers\, 49000
ATTACH;FMTTYPE=image/jpeg:https://lappelduvegetal.fr/wp-content/uploads/2024/02/csm_20240316smartplantouses_ens_c_fabien_fougeroux-min_55b3f58a2e.jpg
END:VEVENT
END:VCALENDAR