BEGIN:VCALENDAR
VERSION:2.0
PRODID:-//L&#039;appel du végétal - ECPv6.15.18//NONSGML v1.0//EN
CALSCALE:GREGORIAN
METHOD:PUBLISH
X-WR-CALNAME:L&#039;appel du végétal
X-ORIGINAL-URL:https://lappelduvegetal.fr
X-WR-CALDESC:Évènements pour L&#039;appel du végétal
REFRESH-INTERVAL;VALUE=DURATION:PT1H
X-Robots-Tag:noindex
X-PUBLISHED-TTL:PT1H
BEGIN:VTIMEZONE
TZID:Europe/Paris
BEGIN:DAYLIGHT
TZOFFSETFROM:+0100
TZOFFSETTO:+0200
TZNAME:CEST
DTSTART:20240331T010000
END:DAYLIGHT
BEGIN:STANDARD
TZOFFSETFROM:+0200
TZOFFSETTO:+0100
TZNAME:CET
DTSTART:20241027T010000
END:STANDARD
BEGIN:DAYLIGHT
TZOFFSETFROM:+0100
TZOFFSETTO:+0200
TZNAME:CEST
DTSTART:20250330T010000
END:DAYLIGHT
BEGIN:STANDARD
TZOFFSETFROM:+0200
TZOFFSETTO:+0100
TZNAME:CET
DTSTART:20251026T010000
END:STANDARD
BEGIN:DAYLIGHT
TZOFFSETFROM:+0100
TZOFFSETTO:+0200
TZNAME:CEST
DTSTART:20260329T010000
END:DAYLIGHT
BEGIN:STANDARD
TZOFFSETFROM:+0200
TZOFFSETTO:+0100
TZNAME:CET
DTSTART:20261025T010000
END:STANDARD
END:VTIMEZONE
BEGIN:VEVENT
DTSTART;TZID=Europe/Paris:20251015T150000
DTEND;TZID=Europe/Paris:20251015T170000
DTSTAMP:20260421T192048
CREATED:20250918T130830Z
LAST-MODIFIED:20250918T130830Z
UID:10000093-1760540400-1760547600@lappelduvegetal.fr
SUMMARY:Sortie "LAND'ART"
DESCRIPTION:Envie de créer\, de vous amuser\, de vous reconnecter avec la nature ?  \nRejoignez-nous pour un atelier Land Art au Parc Brassens\, pour petits et grands ! mercredi 15 octobre 15h00 à 17h00 Parc Brassens À partir de 5 ans – Activité familiale\, accessible à tous Plus d’infos et inscriptions sur : https://www.ville-avrille.fr/agenda/land-art/
URL:https://lappelduvegetal.fr/evenement/sortie-landart/
LOCATION:Parc brassens A Avrillé\, Avenue Georges Pompidou\, Avrillé\, Maine et Loire\, 49240\, France
ATTACH;FMTTYPE=image/jpeg:https://lappelduvegetal.fr/wp-content/uploads/2025/09/landart-avrille.jpg
END:VEVENT
END:VCALENDAR