BEGIN:VCALENDAR
VERSION:2.0
PRODID:-//L&#039;appel du végétal - ECPv6.15.18//NONSGML v1.0//EN
CALSCALE:GREGORIAN
METHOD:PUBLISH
X-WR-CALNAME:L&#039;appel du végétal
X-ORIGINAL-URL:https://lappelduvegetal.fr
X-WR-CALDESC:Évènements pour L&#039;appel du végétal
REFRESH-INTERVAL;VALUE=DURATION:PT1H
X-Robots-Tag:noindex
X-PUBLISHED-TTL:PT1H
BEGIN:VTIMEZONE
TZID:Europe/Paris
BEGIN:DAYLIGHT
TZOFFSETFROM:+0100
TZOFFSETTO:+0200
TZNAME:CEST
DTSTART:20250330T010000
END:DAYLIGHT
BEGIN:STANDARD
TZOFFSETFROM:+0200
TZOFFSETTO:+0100
TZNAME:CET
DTSTART:20251026T010000
END:STANDARD
BEGIN:DAYLIGHT
TZOFFSETFROM:+0100
TZOFFSETTO:+0200
TZNAME:CEST
DTSTART:20260329T010000
END:DAYLIGHT
BEGIN:STANDARD
TZOFFSETFROM:+0200
TZOFFSETTO:+0100
TZNAME:CET
DTSTART:20261025T010000
END:STANDARD
BEGIN:DAYLIGHT
TZOFFSETFROM:+0100
TZOFFSETTO:+0200
TZNAME:CEST
DTSTART:20270328T010000
END:DAYLIGHT
BEGIN:STANDARD
TZOFFSETFROM:+0200
TZOFFSETTO:+0100
TZNAME:CET
DTSTART:20271031T010000
END:STANDARD
END:VTIMEZONE
BEGIN:VEVENT
DTSTART;TZID=Europe/Paris:20260411T143000
DTEND;TZID=Europe/Paris:20260411T163000
DTSTAMP:20260422T064610
CREATED:20260205T133323Z
LAST-MODIFIED:20260205T133323Z
UID:10000101-1775917800-1775925000@lappelduvegetal.fr
SUMMARY:Buisson'ART
DESCRIPTION:Un atelier “art et nature” en contact direct avec\nles éléments afin de rendre accessible la\nfabrication de son matériel de dessin et\nd’écriture à partir des ressources locales.\nInitiation aux pratiques utilisant ce matériel.\nReconnaissance des pigments. Transmission et\npartage autour des couleurs végétales de nos\nchemins. Chaque participant pourra élaborer\nson encre et son outil d’écriture. \nA partir de 5 ans. \nRéservation obligatoire auprès d’Amélie de L’appel du végétal \nau 06.21.16.52.77 ou par mail lappelduvegetal@gmail.com \nLieu de départ : Centre technique municipal – Rue des carrières à Bécon les Granits \nAucun pré-requis
URL:https://lappelduvegetal.fr/evenement/buissonart/
LOCATION:Bécon les Granits\, Bécon les Granits
ATTACH;FMTTYPE=image/jpeg:https://lappelduvegetal.fr/wp-content/uploads/2026/02/visuel-site-rdv-nature-avril-2026-buissonnart.jpg
END:VEVENT
END:VCALENDAR