BEGIN:VCALENDAR
VERSION:2.0
PRODID:-//L&#039;appel du végétal - ECPv6.15.18//NONSGML v1.0//EN
CALSCALE:GREGORIAN
METHOD:PUBLISH
X-WR-CALNAME:L&#039;appel du végétal
X-ORIGINAL-URL:https://lappelduvegetal.fr
X-WR-CALDESC:Évènements pour L&#039;appel du végétal
REFRESH-INTERVAL;VALUE=DURATION:PT1H
X-Robots-Tag:noindex
X-PUBLISHED-TTL:PT1H
BEGIN:VTIMEZONE
TZID:Europe/Paris
BEGIN:DAYLIGHT
TZOFFSETFROM:+0100
TZOFFSETTO:+0200
TZNAME:CEST
DTSTART:20250330T010000
END:DAYLIGHT
BEGIN:STANDARD
TZOFFSETFROM:+0200
TZOFFSETTO:+0100
TZNAME:CET
DTSTART:20251026T010000
END:STANDARD
BEGIN:DAYLIGHT
TZOFFSETFROM:+0100
TZOFFSETTO:+0200
TZNAME:CEST
DTSTART:20260329T010000
END:DAYLIGHT
BEGIN:STANDARD
TZOFFSETFROM:+0200
TZOFFSETTO:+0100
TZNAME:CET
DTSTART:20261025T010000
END:STANDARD
BEGIN:DAYLIGHT
TZOFFSETFROM:+0100
TZOFFSETTO:+0200
TZNAME:CEST
DTSTART:20270328T010000
END:DAYLIGHT
BEGIN:STANDARD
TZOFFSETFROM:+0200
TZOFFSETTO:+0100
TZNAME:CET
DTSTART:20271031T010000
END:STANDARD
END:VTIMEZONE
BEGIN:VEVENT
DTSTART;TZID=Europe/Paris:20260421T140000
DTEND;TZID=Europe/Paris:20260421T160000
DTSTAMP:20260421T014826
CREATED:20260205T143104Z
LAST-MODIFIED:20260205T143104Z
UID:10000104-1776780000-1776787200@lappelduvegetal.fr
SUMMARY:Sortie Des fleurs et des bestioles
DESCRIPTION:Laetitia et Amélie vous invite à venir vivre une expérience de découverte et de reconnaissance autour des petites bêtes et des plantes sauvages. \nCette sortie est l’occasion de vivre un moment en famille et de mettre ses sens en éveil pour mieux connaitre \net comprendre l’environnement proche de chacun. \nA partir de 6 ans . \nSortie gratuite et inscription obligatoire sur le site de réservation \nhttps://boutique.destination-angers.com/activites-et-sites-touristiques/lamaisondelenvironnement \nSur l’espace naturel sensible du Lac de Maine à Angers \nLaetitia /Renard’eau et Amélie/ L’appel du végétal sont toutes les deux animatrices nature \net adhérentes de l’association Eco-Formations des Pays de la Loire.
URL:https://lappelduvegetal.fr/evenement/desfleursetdesbestioles/
LOCATION:Maison de l’environnement Angers\, 49\, avenue du Lac de Maine\, Angers\, 49000
ATTACH;FMTTYPE=image/jpeg:https://lappelduvegetal.fr/wp-content/uploads/2026/02/fleurs-et-des-bestioles-efpl-3-mai-2026.jpg
END:VEVENT
END:VCALENDAR