BEGIN:VCALENDAR
VERSION:2.0
PRODID:-//L&#039;appel du végétal - ECPv6.15.18//NONSGML v1.0//EN
CALSCALE:GREGORIAN
METHOD:PUBLISH
X-WR-CALNAME:L&#039;appel du végétal
X-ORIGINAL-URL:https://lappelduvegetal.fr
X-WR-CALDESC:Évènements pour L&#039;appel du végétal
REFRESH-INTERVAL;VALUE=DURATION:PT1H
X-Robots-Tag:noindex
X-PUBLISHED-TTL:PT1H
BEGIN:VTIMEZONE
TZID:Europe/Paris
BEGIN:DAYLIGHT
TZOFFSETFROM:+0100
TZOFFSETTO:+0200
TZNAME:CEST
DTSTART:20250330T010000
END:DAYLIGHT
BEGIN:STANDARD
TZOFFSETFROM:+0200
TZOFFSETTO:+0100
TZNAME:CET
DTSTART:20251026T010000
END:STANDARD
BEGIN:DAYLIGHT
TZOFFSETFROM:+0100
TZOFFSETTO:+0200
TZNAME:CEST
DTSTART:20260329T010000
END:DAYLIGHT
BEGIN:STANDARD
TZOFFSETFROM:+0200
TZOFFSETTO:+0100
TZNAME:CET
DTSTART:20261025T010000
END:STANDARD
BEGIN:DAYLIGHT
TZOFFSETFROM:+0100
TZOFFSETTO:+0200
TZNAME:CEST
DTSTART:20270328T010000
END:DAYLIGHT
BEGIN:STANDARD
TZOFFSETFROM:+0200
TZOFFSETTO:+0100
TZNAME:CET
DTSTART:20271031T010000
END:STANDARD
END:VTIMEZONE
BEGIN:VEVENT
DTSTART;TZID=Europe/Paris:20260503T100000
DTEND;TZID=Europe/Paris:20260503T120000
DTSTAMP:20260422T082758
CREATED:20260205T141847Z
LAST-MODIFIED:20260205T141847Z
UID:10000103-1777802400-1777809600@lappelduvegetal.fr
SUMMARY:Sortie Vannerie et Jouets Buissonniers
DESCRIPTION:Laetitia et Amélie vous invitent à venir découvrir les végétaux sauvages \npour pouvoir vous initier à la vannerie buissonnière et à la fabrication de jouets buissonniers \nsur l’espace naturel sensible de l’étang St Nicolas sur la commune d’Avrillé. \nDurant cette balade : \n\nvous vivrez un moment convivial autour de la thématique des plantes sauvages locales\nvous vous initierez aux gestes et aux techniques de vannerie buissonnière et des jouets buissonniers\nvous vivrez une expérience de nature proche de chez vous.\n\nSortie gratuite et sur réservation auprès de Laetitia renardeau@mailo.fr  \nLieu de départ : devant le centre aéré du Chêne Fournier\, allée du chêne fournier\, avenue du commandant mesnard à Avrillé.
URL:https://lappelduvegetal.fr/evenement/sortie-vannerie-et-jouets-buissonniers/
LOCATION:Avrillé\, centre aéré du Chêne Fournier\, allée du chêne fournier\, avenue du commandant mesnard\, Avrillé\, France
ATTACH;FMTTYPE=image/jpeg:https://lappelduvegetal.fr/wp-content/uploads/2026/02/vannerie-et-jouets-buisso-efpl-mai-2026-1.jpg
END:VEVENT
END:VCALENDAR