BEGIN:VCALENDAR
VERSION:2.0
PRODID:-//L&#039;appel du végétal - ECPv6.15.18//NONSGML v1.0//EN
CALSCALE:GREGORIAN
METHOD:PUBLISH
X-WR-CALNAME:L&#039;appel du végétal
X-ORIGINAL-URL:https://lappelduvegetal.fr
X-WR-CALDESC:Évènements pour L&#039;appel du végétal
REFRESH-INTERVAL;VALUE=DURATION:PT1H
X-Robots-Tag:noindex
X-PUBLISHED-TTL:PT1H
BEGIN:VTIMEZONE
TZID:Europe/Paris
BEGIN:DAYLIGHT
TZOFFSETFROM:+0100
TZOFFSETTO:+0200
TZNAME:CEST
DTSTART:20240331T010000
END:DAYLIGHT
BEGIN:STANDARD
TZOFFSETFROM:+0200
TZOFFSETTO:+0100
TZNAME:CET
DTSTART:20241027T010000
END:STANDARD
BEGIN:DAYLIGHT
TZOFFSETFROM:+0100
TZOFFSETTO:+0200
TZNAME:CEST
DTSTART:20250330T010000
END:DAYLIGHT
BEGIN:STANDARD
TZOFFSETFROM:+0200
TZOFFSETTO:+0100
TZNAME:CET
DTSTART:20251026T010000
END:STANDARD
BEGIN:DAYLIGHT
TZOFFSETFROM:+0100
TZOFFSETTO:+0200
TZNAME:CEST
DTSTART:20260329T010000
END:DAYLIGHT
BEGIN:STANDARD
TZOFFSETFROM:+0200
TZOFFSETTO:+0100
TZNAME:CET
DTSTART:20261025T010000
END:STANDARD
END:VTIMEZONE
BEGIN:VEVENT
DTSTART;TZID=Europe/Paris:20250709T140000
DTEND;TZID=Europe/Paris:20250709T163000
DTSTAMP:20260423T001528
CREATED:20250108T071542Z
LAST-MODIFIED:20250108T071542Z
UID:10000091-1752069600-1752078600@lappelduvegetal.fr
SUMMARY:Atelier Buisson'art - Fabriquer son matériel d'art avec les ressources locales
DESCRIPTION:Un atelier “art et nature” en contact direct avec les éléments afin de rendre accessible la fabrication de son matériel de dessin et d’écriture à partir de végétaux. Initiation aux pratiques utilisant ce matériel. Reconnaissance des pigments végétaux. Transmission et partage autour des couleurs végétales de nos chemins. Chaque participant pourra élaborer son encre végétale et son outil d’écriture. \n  \nLieu : sur la commune de St Georges sur Loire – lieu exact communiqué à la réservation \nEspace Naturel Sensible concerné : Vallée de la Loire Aval \nDurée : 2h30 \nA partir de 8 ans \nNombre de participants attendus : 15 personnes \nRéservation : soit auprès de la mairie de St Georges sur Loire au 02.41.72.14.80 ou par mail : mairie@saint-georges-sur-loire.fr \nsoit auprès d’Amélie de L’appel du végétal au 06.21.16.52.77 ou par mail : contact@lappelduvegetal.fr
URL:https://lappelduvegetal.fr/evenement/atelier-buissonart-fabriquer-son-materiel-dart-avec-les-ressources-locales/
LOCATION:Saint Georges sur Loire\, Saint Georges sur Loire
ATTACH;FMTTYPE=image/png:https://lappelduvegetal.fr/wp-content/uploads/2025/01/visuel-ENS-stgeorges-buissonart.png
END:VEVENT
BEGIN:VEVENT
DTSTART;TZID=Europe/Paris:20250709T200000
DTEND;TZID=Europe/Paris:20250709T220000
DTSTAMP:20260423T001528
CREATED:20250102T074658Z
LAST-MODIFIED:20250102T074658Z
UID:10000088-1752091200-1752098400@lappelduvegetal.fr
SUMMARY:Balade sensorielle et crépusculaire
DESCRIPTION:Une balade en soirée pour découvrir le bois du Fouilloux autrement. Immersion sensorielle en famille pour vivre un moment de découverte. La sortie \n est ponctuée de jeux et d’activités en lien direct avec les sensations de fin de journée. On joue! On ressent! Et on apprend aussi à \ndécouvrir les habitants qui peuplent ce lieu en fin de journée. \n\nLieu : sur la commune de Saint Martin du Fouilloux \nDurée : 2h \nHoraire : de 20h à 22h
URL:https://lappelduvegetal.fr/evenement/balade-sensorielle-et-crepusculaire/
LOCATION:Saint Martin du Fouilloux\, Parkin passage des lauriers\, Saint Martin du Fouilloux\, France
ATTACH;FMTTYPE=image/png:https://lappelduvegetal.fr/wp-content/uploads/2025/01/avec-stmartinfouilloux-baladecrepusculaire.png
END:VEVENT
BEGIN:VEVENT
DTSTART;TZID=Europe/Paris:20250711T103000
DTEND;TZID=Europe/Paris:20250711T123000
DTSTAMP:20260423T001528
CREATED:20241231T081111Z
LAST-MODIFIED:20241231T081111Z
UID:10000083-1752229800-1752237000@lappelduvegetal.fr
SUMMARY:Balade aux plantes sauvages tinctoriales
DESCRIPTION:Balade aux plantes sauvages tinctoriales \nAvec Eco Formations Pays de la Loire. \n\nDéambulation de 2h à la découverte des pigments végétaux et des plantes tinctoriales sauvages. De tout temps\, la nature a su nous offrir différentes couleurs. Les participants partiront à la rencontre des ces plantes à couleurs ; les reconnaître\, les nommer et mieux connaître leurs histoires. \n\nA : Baugé  \nLe 11 juillet de 10h30 à 12h30  \nAu départ de l’Apothicairerie de Baugé \nRéservation : https://eco-formation.org/rendez-vous-nature-calendrier/
URL:https://lappelduvegetal.fr/evenement/balade-aux-plantes-sauvages-tinctoriales/
LOCATION:Apothicairerie de Baugé\, Rue Anne de Melun\, Baugé\, 49150
ATTACH;FMTTYPE=image/png:https://lappelduvegetal.fr/wp-content/uploads/2024/12/efpl-plantestinctoriales.png
END:VEVENT
BEGIN:VEVENT
DTSTART;TZID=Europe/Paris:20250711T183000
DTEND;TZID=Europe/Paris:20250711T203000
DTSTAMP:20260423T001528
CREATED:20241231T065902Z
LAST-MODIFIED:20241231T065902Z
UID:10000073-1752258600-1752265800@lappelduvegetal.fr
SUMMARY:Expérience de nature en Famille - Balade crépusculaire
DESCRIPTION:Expérience de nature en Famille \nBALADE CRÉPUSCULAIRE\n \npour les Rendez-vous Nature en Anjou du Département \nsur l’ENS des Basses Vallées Angevines au Parc Balzac à Angers.\n \n\nDéambulation saisonnière pour toute la famille\, des tout-petits aux plus grands. Chacun est invité à se relier au monde qui l’ entoure. Être dehors pour mieux se connaître et développer la curiosité que suscite la nature environnante. Mise en place d’activités en connexion avec la nature proche de chez nous. Moment de partage en famille. Jouer! Créer! S’émerveiller! Et mieux connaître. Aimer pour donner envie de préserver et protéger.  \n\nLieu du rendez-vous : Parc Balzac – Tour de l’Horloge \, boulevard du Bon Pasteur à Angers \nHoraire : de 18h30 à 20h30\n \nDurée : 2h \nDistance parcourue : max 1.5 km\n \nJauge : 25 personnes  \nRéservation : auprès de Destination Angers https://www.angersloiremetropole.fr/mon-quotidien/espaces-nature/index.html#evenements
URL:https://lappelduvegetal.fr/evenement/experience-de-nature-en-famille-balade-crepusculaire-2/
LOCATION:Parc Balzac\, Angers\, 49000
ATTACH;FMTTYPE=image/png:https://lappelduvegetal.fr/wp-content/uploads/2024/12/expdenature-baladecrepusculaire.png
END:VEVENT
BEGIN:VEVENT
DTSTART;TZID=Europe/Paris:20250819T100000
DTEND;TZID=Europe/Paris:20250819T120000
DTSTAMP:20260423T001528
CREATED:20241231T070443Z
LAST-MODIFIED:20241231T070443Z
UID:10000074-1755597600-1755604800@lappelduvegetal.fr
SUMMARY:Expérience de nature en Famille - Jouets Buissonniers
DESCRIPTION:Expérience de nature en Famille \nJOUETS BUISSONNIERS\n \npour les Rendez-vous Nature en Anjou du Département \nsur l’ENS des Basses Vallées Angevines sur l’île St Aubin à Angers.\n \n\nDéambulation saisonnière pour toute la famille\, des tout-petits aux plus grands. Chacun est invité à se relier au monde qui l’ entoure. Être dehors pour mieux se connaître et développer la curiosité que suscite la nature environnante. Mise en place d’activités en connexion avec la nature proche de chez nous. Moment de partage en famille. Jouer! Créer! S’émerveiller! Et mieux connaître. Aimer pour donner envie de préserver et protéger.  \n\nLieu du rendez-vous : parking de l’île saint aubin en face du port de l’île et en face du lieu de départ pour le bac\n \nHoraire : de 10h à 12h\n \nDurée : 2h \nDistance parcourue : max 1.5 km\n \nJauge : 25 personnes  \nRéservation : auprès de Destination Angers https://www.angersloiremetropole.fr/mon-quotidien/espaces-nature/index.html#evenements
URL:https://lappelduvegetal.fr/evenement/experience-de-nature-en-famille-jouets-buissonniers-2/
LOCATION:ile st aubin\, parking ile st aubin\, Angers
ATTACH;FMTTYPE=image/png:https://lappelduvegetal.fr/wp-content/uploads/2024/12/expdenature-jouetsbuissonniers.png
END:VEVENT
BEGIN:VEVENT
DTSTART;TZID=Europe/Paris:20250827T100000
DTEND;TZID=Europe/Paris:20250827T120000
DTSTAMP:20260423T001528
CREATED:20250102T073218Z
LAST-MODIFIED:20250102T073218Z
UID:10000086-1756288800-1756296000@lappelduvegetal.fr
SUMMARY:Sortie "Jouets Buissonniers"
DESCRIPTION:Sortie nature \nJouets Buissonniers et musique verte \navec la commune de Murs Erigné. \n\nSortie autour des jouets buissonniers et de la musique verte. Depuis toujours\, les enfants et leurs accompagnateurs de part le monde ont appris à \n jouer avec leur environnement proche. Entre fabrication de petits jeux et découverte scientifique\, le public est invité à s’approprier ces savoirs \n ancestraux avec les plantes et leurs utilisations ludiques. Prêts à jouer! \n\nLieu : sur la commune de Murs Erigné\n \nDurée :2h \nHoraire :mercredi 27 aout\n \nRéservation :auprès de L’appel du végétal  \ncontact@lappelduvegetal.fr ou par téléphone au 06.21.16.52.77\n \n 
URL:https://lappelduvegetal.fr/evenement/sortie-jouets-buissonniers/
LOCATION:Murs Erigné
ATTACH;FMTTYPE=image/png:https://lappelduvegetal.fr/wp-content/uploads/2025/01/avec-murserigne-jouetsbuisso.png
END:VEVENT
BEGIN:VEVENT
DTSTART;TZID=Europe/Paris:20250827T160000
DTEND;TZID=Europe/Paris:20250827T200000
DTSTAMP:20260423T001528
CREATED:20250108T070858Z
LAST-MODIFIED:20250108T070858Z
UID:10000090-1756310400-1756324800@lappelduvegetal.fr
SUMMARY:Atelier Cuisine aux plantes sauvages comestibles
DESCRIPTION:Du panier à l’assiette\, cet atelier permettra aux participants de s’initier aux gestes ancestraux de la cueillette sauvage pour ensuite confectionner un repas de l’entrée au dessert avec les plantes sauvages comestibles. Transmission et sensibilisation au principe de la douce cueillette pour une cueillette éco-responsable “pas plus\, pas trop\, juste ce qu’il faut”. \n  \nLieu : sur la commune de St Georges sur Loire – lieu communiqué au moment de l’inscription \nEspace Naturel Sensible concerné : Vallée de la Loire Aval \nDurée : 4 heures \nPré-requis : non \nNombre de participants attendus : 15 personnes \nRéservation : soit auprès de la mairie de St Georges sur Loire au 02.41.72.14.80 ou par mail : mairie@saint-georges-sur-loire.fr \nsoit auprès d’Amélie de L’appel du végétal au 06.21.16.52.77 ou par mail : contact@lappelduvegetal.fr
URL:https://lappelduvegetal.fr/evenement/atelier-cuisine-aux-plantes-sauvages-comestibles/
LOCATION:Saint Georges sur Loire\, Saint Georges sur Loire
ATTACH;FMTTYPE=image/png:https://lappelduvegetal.fr/wp-content/uploads/2025/01/visuel-ENS-stgeorgessurloire.png
END:VEVENT
BEGIN:VEVENT
DTSTART;TZID=Europe/Paris:20250828T100000
DTEND;TZID=Europe/Paris:20250828T120000
DTSTAMP:20260423T001528
CREATED:20241231T072602Z
LAST-MODIFIED:20241231T072602Z
UID:10000076-1756375200-1756382400@lappelduvegetal.fr
SUMMARY:Vive l'ortie !
DESCRIPTION:Atelier Vive l’ortie  \nPour la cosmétique et la cuisine.  \n\nAvec Eco Formations Pays de la Loire \net Florine de l’Atelier Ricochet.  \n\nNous vous proposons un atelier “cosmétique” et “cuisine” pour découvrir les utilisations de l’ortie\, cette plante à tout faire et tellement généreuse. Vous aimez l’ortie mais vous ne savez pas vraiment comment l’utiliser ! L’ortie éveille votre curiosité! Vous avez envie de mieux la connaître. Rejoignez-nous pour un moment convivial et plein de découvertes. \n\nA : Murs Erigné \nLe 28 août 2025 de 10h à 12h  \nAu camping des Varennes  \nRéservation : https://eco-formation.org/rendez-vous-nature-calendrier/
URL:https://lappelduvegetal.fr/evenement/vive-lortie/
LOCATION:Camping des Varennes\, Chemin des Varennes\, Murs Erigné\, 49610
ATTACH;FMTTYPE=image/png:https://lappelduvegetal.fr/wp-content/uploads/2024/12/efpl-vivelortie.png
END:VEVENT
END:VCALENDAR