BEGIN:VCALENDAR
VERSION:2.0
PRODID:-//L&#039;appel du végétal - ECPv6.15.18//NONSGML v1.0//EN
CALSCALE:GREGORIAN
METHOD:PUBLISH
X-WR-CALNAME:L&#039;appel du végétal
X-ORIGINAL-URL:https://lappelduvegetal.fr
X-WR-CALDESC:Évènements pour L&#039;appel du végétal
REFRESH-INTERVAL;VALUE=DURATION:PT1H
X-Robots-Tag:noindex
X-PUBLISHED-TTL:PT1H
BEGIN:VTIMEZONE
TZID:Europe/Paris
BEGIN:DAYLIGHT
TZOFFSETFROM:+0100
TZOFFSETTO:+0200
TZNAME:CEST
DTSTART:20240331T010000
END:DAYLIGHT
BEGIN:STANDARD
TZOFFSETFROM:+0200
TZOFFSETTO:+0100
TZNAME:CET
DTSTART:20241027T010000
END:STANDARD
BEGIN:DAYLIGHT
TZOFFSETFROM:+0100
TZOFFSETTO:+0200
TZNAME:CEST
DTSTART:20250330T010000
END:DAYLIGHT
BEGIN:STANDARD
TZOFFSETFROM:+0200
TZOFFSETTO:+0100
TZNAME:CET
DTSTART:20251026T010000
END:STANDARD
BEGIN:DAYLIGHT
TZOFFSETFROM:+0100
TZOFFSETTO:+0200
TZNAME:CEST
DTSTART:20260329T010000
END:DAYLIGHT
BEGIN:STANDARD
TZOFFSETFROM:+0200
TZOFFSETTO:+0100
TZNAME:CET
DTSTART:20261025T010000
END:STANDARD
BEGIN:DAYLIGHT
TZOFFSETFROM:+0100
TZOFFSETTO:+0200
TZNAME:CEST
DTSTART:20270328T010000
END:DAYLIGHT
BEGIN:STANDARD
TZOFFSETFROM:+0200
TZOFFSETTO:+0100
TZNAME:CET
DTSTART:20271031T010000
END:STANDARD
END:VTIMEZONE
BEGIN:VEVENT
DTSTART;TZID=Europe/Paris:20251022T140000
DTEND;TZID=Europe/Paris:20251022T160000
DTSTAMP:20260420T180737
CREATED:20241231T070929Z
LAST-MODIFIED:20241231T070929Z
UID:10000075-1761141600-1761148800@lappelduvegetal.fr
SUMMARY:Expérience de nature en Famille - Automne Flamboyant
DESCRIPTION:Expérience de nature en Famille \nAUTOMNE FLAMBOYANT\n \npour les Rendez-vous Nature en Anjou du Département \nsur l’ENS de l’Étang St Nicolas à Angers.\n \n\nDéambulation saisonnière pour toute la famille\, des tout-petits aux plus grands. Chacun est invité à se relier au monde qui l’ entoure. Être dehors pour mieux se connaître et développer la curiosité que suscite la nature environnante. Mise en place d’activités en connexion avec la nature proche de chez nous. Moment de partage en famille. Jouer! Créer! S’émerveiller! Et mieux connaître. Aimer pour donner envie de préserver et protéger.  \n\nLieu du rendez-vous : Étang St Nicolas – au départ de l’allée de la Haloperie \nHoraire : de 14h à 16h\n \nDurée : 2h \nDistance parcourue : max 1.5 km\n \nJauge : 25 personnes  \nRéservation : auprès de Destination Angers https://www.angersloiremetropole.fr/mon-quotidien/espaces-nature/index.html#evenements
URL:https://lappelduvegetal.fr/evenement/experience-de-nature-en-famille-automne-flamboyant/
LOCATION:Etang Saint Nicolas\, allée de la haloperie\, Angers\, 49000
ATTACH;FMTTYPE=image/png:https://lappelduvegetal.fr/wp-content/uploads/2024/12/expdenature-automneflamboyant.png
END:VEVENT
BEGIN:VEVENT
DTSTART;TZID=Europe/Paris:20251115T140000
DTEND;TZID=Europe/Paris:20251115T163000
DTSTAMP:20260420T180737
CREATED:20241231T064339Z
LAST-MODIFIED:20241231T064339Z
UID:10000071-1763215200-1763224200@lappelduvegetal.fr
SUMMARY:Smart'plantouses
DESCRIPTION:Sortie Smart’plantouses \npour les Rendez-vous Nature en Anjou du Département \nsur l’ENS des Basses Vallées Angevines au Parc Balzac.\n \n\nLaissez-vous guider lors de cette déambulation par un photographe de nature et une raconteuse d’histoires à plantes sauvages\, pour des astuces smartphoto et des anecdotes végétales. \nInvitation à la découverte des plantes sauvages avec leurs usages et à la prise en main de son smartphone pour faire de « belles » photos tout en déambulant sur les chemins. Anecdotes végétales et astuces photo au rendez-vous ! Mise à disposition d’objectif macro adapté pour les smartphones. Dégustation aux plantes sauvages comestibles en fin de sortie. Temps d’échange des photos. \nA partir de 10 ans. \nLieu du rendez-vous : Parc Balzac – Tour de l’Horloge \, boulevard du Bon Pasteur à Angers \nHoraire : 14h – 16h30\n \nDurée : 2h30 \nDistance parcourue :max 1.5 km \nJauge :15 personnes  \nRéservation : auprès de Destination Angers https://www.angersloiremetropole.fr/mon-quotidien/espaces-nature/index.html#evenements
URL:https://lappelduvegetal.fr/evenement/smartplantouses-8/
LOCATION:Parc Balzac\, Angers\, 49000
ATTACH;FMTTYPE=image/png:https://lappelduvegetal.fr/wp-content/uploads/2024/12/visuel-2025-smartplantouses.png
END:VEVENT
BEGIN:VEVENT
DTSTART;TZID=Europe/Paris:20260321T140000
DTEND;TZID=Europe/Paris:20260321T160000
DTSTAMP:20260420T180737
CREATED:20260204T074402Z
LAST-MODIFIED:20260204T074402Z
UID:10000094-1774101600-1774108800@lappelduvegetal.fr
SUMMARY:Expérience buissonnière - Rendez-vous nature en Anjou
DESCRIPTION:Petits et grands curieux sont invités à découvrir en famille\, avec leurs sens et tout en jouant\, les trésors de la nature.  \nApprenons à fabriquer des jouets buissonniers et des petits instruments de musique à partir des végétaux de nos chemins. \nA partir de 2 ans. 
URL:https://lappelduvegetal.fr/evenement/experience-buissonniere-rendez-vous-nature-en-anjou/
LOCATION:Saint Clément de la Place
ATTACH;FMTTYPE=image/jpeg:https://lappelduvegetal.fr/wp-content/uploads/2026/02/visuel-site-rdv-nature-mars-2026.jpg
END:VEVENT
BEGIN:VEVENT
DTSTART;TZID=Europe/Paris:20260411T143000
DTEND;TZID=Europe/Paris:20260411T163000
DTSTAMP:20260420T180737
CREATED:20260205T133323Z
LAST-MODIFIED:20260205T133323Z
UID:10000101-1775917800-1775925000@lappelduvegetal.fr
SUMMARY:Buisson'ART
DESCRIPTION:Un atelier “art et nature” en contact direct avec\nles éléments afin de rendre accessible la\nfabrication de son matériel de dessin et\nd’écriture à partir des ressources locales.\nInitiation aux pratiques utilisant ce matériel.\nReconnaissance des pigments. Transmission et\npartage autour des couleurs végétales de nos\nchemins. Chaque participant pourra élaborer\nson encre et son outil d’écriture. \nA partir de 5 ans. \nRéservation obligatoire auprès d’Amélie de L’appel du végétal \nau 06.21.16.52.77 ou par mail lappelduvegetal@gmail.com \nLieu de départ : Centre technique municipal – Rue des carrières à Bécon les Granits \nAucun pré-requis
URL:https://lappelduvegetal.fr/evenement/buissonart/
LOCATION:Bécon les Granits\, Bécon les Granits
ATTACH;FMTTYPE=image/jpeg:https://lappelduvegetal.fr/wp-content/uploads/2026/02/visuel-site-rdv-nature-avril-2026-buissonnart.jpg
END:VEVENT
BEGIN:VEVENT
DTSTART;TZID=Europe/Paris:20260416T100000
DTEND;TZID=Europe/Paris:20260416T120000
DTSTAMP:20260420T180737
CREATED:20260204T075038Z
LAST-MODIFIED:20260204T075038Z
UID:10000095-1776333600-1776340800@lappelduvegetal.fr
SUMMARY:Expérience botanique - Rendez-vous nature en Anjou
DESCRIPTION:Un temps au contact du dehors et de ses trésors pour mieux connaître les plantes herbacées  \net les fleurs qui nous entoure en les nommant\, en les identifiant et en découvrant leurs histoires. \nA partir de 2 ans.
URL:https://lappelduvegetal.fr/evenement/experience-botanique-rendez-vous-nature-en-anjou/
LOCATION:Angers
ATTACH;FMTTYPE=image/jpeg:https://lappelduvegetal.fr/wp-content/uploads/2026/02/visuel-site-rdv-nature-avril-2026.jpg
END:VEVENT
END:VCALENDAR