BEGIN:VCALENDAR
VERSION:2.0
PRODID:-//L&#039;appel du végétal - ECPv6.15.18//NONSGML v1.0//EN
CALSCALE:GREGORIAN
METHOD:PUBLISH
X-ORIGINAL-URL:https://lappelduvegetal.fr
X-WR-CALDESC:Évènements pour L&#039;appel du végétal
REFRESH-INTERVAL;VALUE=DURATION:PT1H
X-Robots-Tag:noindex
X-PUBLISHED-TTL:PT1H
BEGIN:VTIMEZONE
TZID:Europe/Paris
BEGIN:DAYLIGHT
TZOFFSETFROM:+0100
TZOFFSETTO:+0200
TZNAME:CEST
DTSTART:20240331T010000
END:DAYLIGHT
BEGIN:STANDARD
TZOFFSETFROM:+0200
TZOFFSETTO:+0100
TZNAME:CET
DTSTART:20241027T010000
END:STANDARD
BEGIN:DAYLIGHT
TZOFFSETFROM:+0100
TZOFFSETTO:+0200
TZNAME:CEST
DTSTART:20250330T010000
END:DAYLIGHT
BEGIN:STANDARD
TZOFFSETFROM:+0200
TZOFFSETTO:+0100
TZNAME:CET
DTSTART:20251026T010000
END:STANDARD
BEGIN:DAYLIGHT
TZOFFSETFROM:+0100
TZOFFSETTO:+0200
TZNAME:CEST
DTSTART:20260329T010000
END:DAYLIGHT
BEGIN:STANDARD
TZOFFSETFROM:+0200
TZOFFSETTO:+0100
TZNAME:CET
DTSTART:20261025T010000
END:STANDARD
END:VTIMEZONE
BEGIN:VEVENT
DTSTART;TZID=Europe/Paris:20250924T100000
DTEND;TZID=Europe/Paris:20250924T110000
DTSTAMP:20260421T160456
CREATED:20250102T073850Z
LAST-MODIFIED:20250102T073850Z
UID:10000087-1758708000-1758711600@lappelduvegetal.fr
SUMMARY:Vadrouille pour petits petons - Semaine de la Parentalité
DESCRIPTION:Sortie nature \nVADROUILLE POUR PETITS PETONS \navec Murs Erigné.  \n\nSortie pour les tout-petits de 6 mois à 3 ans. Sous nos yeux! A nos pieds! Là tout près! Pas besoin d’aller loin la nature est généreuse de découverte \n pour mieux connaître son environnement proche. Rythmées\, par des ritournelles de saison\, des activités sensorielles\, des histoires avec les animaux \n de nos contrées\, des initiations art et nature\, ces vadrouilles pour les petits petons et les mains dodues sont des moments précieux entre parents et \n enfants. \n\nLieu : sur la commune de Murs Erigné \nDurée : 1h \nHoraire : de 10h à 11h
URL:https://lappelduvegetal.fr/evenement/vadrouille-pour-petits-petons-semaine-de-la-parentalite/
LOCATION:Murs Erigné
ATTACH;FMTTYPE=image/png:https://lappelduvegetal.fr/wp-content/uploads/2025/01/avec-murserigne-toutpetits.png
END:VEVENT
END:VCALENDAR